BEGIN:VCALENDAR
VERSION:2.0
PRODID:-//Granada Valley - ECPv6.15.20//NONSGML v1.0//EN
CALSCALE:GREGORIAN
METHOD:PUBLISH
X-ORIGINAL-URL:https://granadavalley.es
X-WR-CALDESC:Eventos para Granada Valley
REFRESH-INTERVAL;VALUE=DURATION:PT1H
X-Robots-Tag:noindex
X-PUBLISHED-TTL:PT1H
BEGIN:VTIMEZONE
TZID:Europe/Madrid
BEGIN:DAYLIGHT
TZOFFSETFROM:+0100
TZOFFSETTO:+0200
TZNAME:CEST
DTSTART:20250330T010000
END:DAYLIGHT
BEGIN:STANDARD
TZOFFSETFROM:+0200
TZOFFSETTO:+0100
TZNAME:CET
DTSTART:20251026T010000
END:STANDARD
BEGIN:DAYLIGHT
TZOFFSETFROM:+0100
TZOFFSETTO:+0200
TZNAME:CEST
DTSTART:20260329T010000
END:DAYLIGHT
BEGIN:STANDARD
TZOFFSETFROM:+0200
TZOFFSETTO:+0100
TZNAME:CET
DTSTART:20261025T010000
END:STANDARD
BEGIN:DAYLIGHT
TZOFFSETFROM:+0100
TZOFFSETTO:+0200
TZNAME:CEST
DTSTART:20270328T010000
END:DAYLIGHT
BEGIN:STANDARD
TZOFFSETFROM:+0200
TZOFFSETTO:+0100
TZNAME:CET
DTSTART:20271031T010000
END:STANDARD
END:VTIMEZONE
BEGIN:VEVENT
DTSTART;TZID=Europe/Madrid:20260108T203000
DTEND;TZID=Europe/Madrid:20260108T220000
DTSTAMP:20260424T124241
CREATED:20260121T083844Z
LAST-MODIFIED:20260121T083844Z
UID:5314-1767904200-1767909600@granadavalley.es
SUMMARY:Aperitivo Networking
DESCRIPTION:El Aperitivo Networking de Granada Valley del 8 de enero a las 20:30 es una oportunidad perfecta para conectar con otros empresarios y profesionales de Granada en un ambiente distendido y cercano. El evento tendrá lugar en la oficina de nuestro socio Grupo AICO\, un espacio ideal para fomentar conversaciones naturales y relaciones de valor. \nEste encuentro está diseñado para ampliar tu red de contactos\, compartir experiencias reales de negocio y generar sinergias entre empresas locales. El formato aperitivo facilita un networking fluido\, sin prisas ni presentaciones rígidas\, donde las relaciones surgen de manera auténtica. \nSi buscas networking empresarial en Granada\, este evento es una excelente forma de empezar el año conectando con la comunidad Granada Valley. \n📍 Lugar: Oficina Grupo AICO \n🕣 Hora: 20:30 h \n¿Por Qué Asistir?\n\nNetworking: Conecta con una amplia red de profesionales y emprendedores de diversos sectores de la provincia de Granada.\nAmbiente Informal: Disfruta de un ambiente relajado mientras haces networking\, y disfrutas de un picoteo de cortesía.\nOportunidades de Colaboración: Encuentra posibles socios\, clientes o proveedores\, y establece sinergias con el tejido empresarial de la zona.\nInvitación para No Asociados: Prueba el valor de nuestras reuniones.\n\nCómo Inscribirse\nNo te pierdas esta oportunidad única de expandir tu red profesional y descubrir nuevas oportunidades. Para inscribirte y obtener tu invitación gratuita\, visita https://granadavalley.es/invitaciones/
URL:https://granadavalley.es/evento/aperitivo-networking/
LOCATION:Grupo AICO\, Zaidín\, Granada
CATEGORIES:Networking
ATTACH;FMTTYPE=image/png:https://granadavalley.es/wp-content/uploads/2024/05/podcast-podcast-podcast-podcast-podcast-podcast-podcast-podcast-1.png
ORGANIZER;CN="Granada Valley":MAILTO:hola@granadavalley.es
END:VEVENT
BEGIN:VEVENT
DTSTART;TZID=Europe/Madrid:20260115T090000
DTEND;TZID=Europe/Madrid:20260115T110000
DTSTAMP:20260424T124241
CREATED:20260121T084346Z
LAST-MODIFIED:20260121T084346Z
UID:5317-1768467600-1768474800@granadavalley.es
SUMMARY:Desayuno Networking
DESCRIPTION:El Desayuno Networking de Granada Valley del 15 de enero se celebrará en la oficina de nuestra socia Pepa\, de Hipnocare\, y está pensado para comenzar la jornada laboral generando conexiones de calidad entre empresas de Granada. \nEste formato de networking matinal permite compartir ideas\, proyectos y contactos en un ambiente cercano y profesional. Es ideal para quienes buscan hacer networking efectivo sin interferir en su jornada laboral\, creando relaciones basadas en la confianza y el conocimiento mutuo. \nUn encuentro perfecto para fortalecer vínculos\, descubrir nuevos colaboradores y formar parte activa de la comunidad Granada Valley. \n📍 Lugar: Oficina Hipnocare \n🕘 Hora: 9:00 h \n¿Qué es Desayuno Networking? \nDesayuno Networking es una oportunidad única para que socios e invitados se reúnan\, compartan ideas y establezcan contactos profesionales\, con el objetivo de hacer negocio DE VERDAD. Este evento está diseñado para fomentar la colaboración y el crecimiento entre la comunidad empresarial de Granada. \n¿Quién Puede Participar?\nEl evento está abierto tanto para socios como para no asociados. Si aún no eres miembro\, esta es tu oportunidad para participar y descubrir los beneficios de formar parte de nuestra red. Los no asociados pueden inscribirse y conseguir su invitación previa aceptación a través de este enlace https://granadavalley.es/invitaciones/  \n¿Por Qué Asistir?\n\nNetworking: Conecta con una amplia red de profesionales y emprendedores de diversos sectores de la provincia de Granada.\nAmbiente Informal: Disfruta de un ambiente relajado mientras haces networking\, y disfrutas de un desayuno de cortesía.\nOportunidades de Colaboración: Encuentra posibles socios\, clientes o proveedores\, y establece sinergias con el tejido empresarial de la zona.\nInvitación para No Asociados: Prueba el valor de nuestras reuniones.\n\nCómo Inscribirse\nNo te pierdas esta oportunidad única de expandir tu red profesional y descubrir nuevas oportunidades. Para inscribirte y obtener tu invitación gratuita\, visita https://granadavalley.es/invitaciones/
URL:https://granadavalley.es/evento/desayuno-networking-hipnocare/
LOCATION:Hipnocare\, Calle Baza\, parcela 3\, oficina M\, Albolote\, Granada
CATEGORIES:Networking
ATTACH;FMTTYPE=image/png:https://granadavalley.es/wp-content/uploads/2024/05/podcast-podcast-podcast-podcast-podcast-podcast-podcast-podcast-1.png
ORGANIZER;CN="Granada Valley":MAILTO:hola@granadavalley.es
END:VEVENT
BEGIN:VEVENT
DTSTART;TZID=Europe/Madrid:20260120T203000
DTEND;TZID=Europe/Madrid:20260120T213000
DTSTAMP:20260424T124241
CREATED:20260121T085932Z
LAST-MODIFIED:20260121T090039Z
UID:5319-1768941000-1768944600@granadavalley.es
SUMMARY:Formación: Construye presencia digital en redes sociales con estrategia
DESCRIPTION:La formación “Construye presencia digital en redes sociales con estrategia”\, impartida por Andrea Villanueva de Comienza Creando\, está dirigida a empresas y profesionales que quieren mejorar su visibilidad online de forma coherente y efectiva. \nDurante la sesión aprenderás a crear una estrategia digital alineada con tus objetivos de negocio\, evitando la improvisación y el desgaste que supone publicar sin rumbo. Una formación práctica y clara\, enfocada a resultados reales en redes sociales. \nIdeal para emprendedores y empresas que quieren profesionalizar su presencia digital y destacar en un entorno cada vez más competitivo. \n🕣 Hora: 20:30 h En Startidea
URL:https://granadavalley.es/evento/formacion-construye-presencia-digital/
LOCATION:Startidea\, Calle Conde Cifuentes\, 33\, Granada\, España
CATEGORIES:Formación
ATTACH;FMTTYPE=image/png:https://granadavalley.es/wp-content/uploads/2024/05/podcast-podcast-podcast-podcast-podcast-podcast-podcast-podcast-4.png
ORGANIZER;CN="Granada Valley":MAILTO:hola@granadavalley.es
END:VEVENT
BEGIN:VEVENT
DTSTART;TZID=Europe/Madrid:20260122T203000
DTEND;TZID=Europe/Madrid:20260122T220000
DTSTAMP:20260424T124241
CREATED:20260121T090616Z
LAST-MODIFIED:20260121T090616Z
UID:5321-1769113800-1769119200@granadavalley.es
SUMMARY:Aperitivo Networking
DESCRIPTION:El Aperitivo Networking del 22 de enero se celebrará en la Clínica Dental Salvatierra\, empresa socia de Granada Valley. Un evento pensado para conectar empresas en un entorno diferente y cercano\, favoreciendo conversaciones de valor y colaboraciones futuras. \nEste tipo de encuentros refuerzan la filosofía del club: networking real\, humano y basado en la confianza\, donde cada socio puede mostrar quién es y qué hace sin presiones comerciales. \n📍 Lugar: Clínica Dental Salvatierra \n🕣 Hora: 20:30 h \n¿Por Qué Asistir?\n\nNetworking: Conecta con una amplia red de profesionales y emprendedores de diversos sectores de la provincia de Granada.\nAmbiente Informal: Disfruta de un ambiente relajado mientras haces networking\, y disfrutas de un picoteo de cortesía.\nOportunidades de Colaboración: Encuentra posibles socios\, clientes o proveedores\, y establece sinergias con el tejido empresarial de la zona.\nInvitación para No Asociados: Prueba el valor de nuestras reuniones.\n\nCómo Inscribirse\nNo te pierdas esta oportunidad única de expandir tu red profesional y descubrir nuevas oportunidades. Para inscribirte y obtener tu invitación gratuita\, visita https://granadavalley.es/invitaciones/
URL:https://granadavalley.es/evento/aperitivo-networking-salvatierra-dental/
LOCATION:Clinica Dental Salvatierra\, Avenida América\, 8\, Granada\, Granada
CATEGORIES:Networking
ATTACH;FMTTYPE=image/png:https://granadavalley.es/wp-content/uploads/2024/05/podcast-podcast-podcast-podcast-podcast-podcast-podcast-podcast-1.png
ORGANIZER;CN="Granada Valley":MAILTO:hola@granadavalley.es
END:VEVENT
BEGIN:VEVENT
DTSTART;TZID=Europe/Madrid:20260127T203000
DTEND;TZID=Europe/Madrid:20260127T213000
DTSTAMP:20260424T124241
CREATED:20260121T091334Z
LAST-MODIFIED:20260121T091801Z
UID:5324-1769545800-1769549400@granadavalley.es
SUMMARY:Formación: Cobrar por Bizum siendo autónomo
DESCRIPTION:La formación “Cobrar por Bizum siendo autónomo: qué cambia desde enero”\, impartida por Macarena Moles\, abogada y socia del club\, aborda uno de los temas que más dudas genera entre profesionales y autónomos. \nEn esta sesión se explicarán de forma clara las novedades legales y fiscales\, cómo afectan al uso de Bizum y qué debes tener en cuenta para cumplir con la normativa vigente. \nUna formación imprescindible para autónomos y empresas que buscan seguridad legal y tranquilidad en su día a día. \n🕣 Hora: 20:30 h
URL:https://granadavalley.es/evento/formacion-cobrar-por-bizum-autonomo/
CATEGORIES:Formación
ATTACH;FMTTYPE=image/png:https://granadavalley.es/wp-content/uploads/2024/05/podcast-podcast-podcast-podcast-podcast-podcast-podcast-podcast-4.png
ORGANIZER;CN="Granada Valley":MAILTO:hola@granadavalley.es
END:VEVENT
BEGIN:VEVENT
DTSTART;TZID=Europe/Madrid:20260129T090000
DTEND;TZID=Europe/Madrid:20260129T110000
DTSTAMP:20260424T124241
CREATED:20260121T093051Z
LAST-MODIFIED:20260121T102202Z
UID:5328-1769677200-1769684400@granadavalley.es
SUMMARY:Rómpeme el Minuto X II
DESCRIPTION:Rómpeme el Minuto X II es uno de los formatos más dinámicos de Granada Valley. Un intercambio de parejas empresariales diseñado para romper el hielo\, mejorar la comunicación y generar conexiones rápidas y efectivas. \nEste evento fomenta la participación activa\, la escucha y la capacidad de presentar tu negocio de forma clara y directa. Ideal para quienes quieren mejorar sus habilidades de networking y ampliar su red de contactos en poco tiempo. \n🕘 Hora: 9:00 h
URL:https://granadavalley.es/evento/rompeme-el-minuto-x-ii/
CATEGORIES:Eventos
ATTACH;FMTTYPE=image/png:https://granadavalley.es/wp-content/uploads/2024/05/podcast-podcast-podcast-podcast-podcast-podcast-podcast-podcast-1.png
ORGANIZER;CN="Granada Valley":MAILTO:hola@granadavalley.es
END:VEVENT
END:VCALENDAR