BEGIN:VCALENDAR
VERSION:2.0
PRODID:-//Granada Valley - ECPv6.15.20//NONSGML v1.0//EN
CALSCALE:GREGORIAN
METHOD:PUBLISH
X-ORIGINAL-URL:https://granadavalley.es
X-WR-CALDESC:Eventos para Granada Valley
REFRESH-INTERVAL;VALUE=DURATION:PT1H
X-Robots-Tag:noindex
X-PUBLISHED-TTL:PT1H
BEGIN:VTIMEZONE
TZID:Europe/Madrid
BEGIN:DAYLIGHT
TZOFFSETFROM:+0100
TZOFFSETTO:+0200
TZNAME:CEST
DTSTART:20240331T010000
END:DAYLIGHT
BEGIN:STANDARD
TZOFFSETFROM:+0200
TZOFFSETTO:+0100
TZNAME:CET
DTSTART:20241027T010000
END:STANDARD
BEGIN:DAYLIGHT
TZOFFSETFROM:+0100
TZOFFSETTO:+0200
TZNAME:CEST
DTSTART:20250330T010000
END:DAYLIGHT
BEGIN:STANDARD
TZOFFSETFROM:+0200
TZOFFSETTO:+0100
TZNAME:CET
DTSTART:20251026T010000
END:STANDARD
BEGIN:DAYLIGHT
TZOFFSETFROM:+0100
TZOFFSETTO:+0200
TZNAME:CEST
DTSTART:20260329T010000
END:DAYLIGHT
BEGIN:STANDARD
TZOFFSETFROM:+0200
TZOFFSETTO:+0100
TZNAME:CET
DTSTART:20261025T010000
END:STANDARD
END:VTIMEZONE
BEGIN:VEVENT
DTSTART;TZID=Europe/Madrid:20250819T203000
DTEND;TZID=Europe/Madrid:20250819T223000
DTSTAMP:20260423T144926
CREATED:20250804T151339Z
LAST-MODIFIED:20250826T144749Z
UID:4535-1755635400-1755642600@granadavalley.es
SUMMARY:Taller: Gestión de equipos y liderazgo
DESCRIPTION:En Granada Valley seguimos apostando por el conocimiento de calidad como motor del crecimiento empresarial. Por eso\, nos complace anunciar esta formación exclusiva para socios que tendrá lugar el martes 19 de agosto a las 20:00h\, y que será impartida por Ana María Prieto\, de Tickamore. \nLa sesión estará centrada en un tema fundamental para cualquier emprendedor o profesional con responsabilidades directivas: Gestión de Equipos y Liderazgo. A través de su experiencia y enfoque práctico\, Ana María con muchos años de experiencia liderando equipos\, y trabajando con clientes de primer nivel\, compartirá claves\, herramientas y casos reales que te ayudarán a liderar con más claridad\, a motivar a tu equipo y a construir una cultura de trabajo sólida y productiva. \nEsta formación está dirigida a emprendedores\, directivos\, responsables de equipo y profesionales de Granada Valley que quieran mejorar sus habilidades directivas y fortalecer el rendimiento de sus organizaciones. \n📍 Fecha: Martes\, 19 de agosto \n🕗 Hora: 20:00h \n📍 Lugar: por determinar \n¡No te lo pierdas! Una oportunidad única para formarte de la mano de una profesional con amplia trayectoria y visión estratégica. \nGranada Valley no se detiene. Apostamos por el liderazgo real y por el aprendizaje continuo.
URL:https://granadavalley.es/evento/taller-gestion-equipos-y-liderazgo/
LOCATION:Startidea\, Calle Conde Cifuentes\, 33\, Granada\, España
CATEGORIES:Formación
ATTACH;FMTTYPE=image/png:https://granadavalley.es/wp-content/uploads/2024/05/podcast-podcast-podcast-podcast-podcast-podcast-podcast-podcast-4.png
ORGANIZER;CN="Granada Valley":MAILTO:hola@granadavalley.es
END:VEVENT
BEGIN:VEVENT
DTSTART;TZID=Europe/Madrid:20250826T090000
DTEND;TZID=Europe/Madrid:20250826T103000
DTSTAMP:20260423T144926
CREATED:20250826T144704Z
LAST-MODIFIED:20250826T144704Z
UID:4674-1756198800-1756204200@granadavalley.es
SUMMARY:Taller: SEO local\, tu negocio en el mapa
DESCRIPTION:En Granada Valley seguimos apostando por el conocimiento de calidad como motor del crecimiento empresarial. Por eso\, nos complace anunciar esta formación exclusiva para socios que tendrá lugar el martes 26 de agosto a las 09:00h\, y que será impartida por Enrique\, de Nubexo \nLa sesión estará centrada en un tema fundamental para cualquier emprendedor o profesional que desee posicionar su empresa de manera digital: el posicionamiento SEO. \nEsta formación está dirigida a emprendedores\, empresarios y profesionales de Granada Valley que quieran aprender cómo posicionar su empresa en internet. \n📍 Fecha: Martes\, 26 de agosto \n🕗 Hora: 09:00h \n📍 Lugar: C/ San Antón\, 72\, 6º\, oficina 9\, Granada \n¡No te lo pierdas! Una oportunidad única para formarte de la mano de un profesional con amplia trayectoria y visión estratégica. \nGranada Valley no se detiene. ¡Seguimos!
URL:https://granadavalley.es/evento/taller-seo-local/
LOCATION:Nubexo\, Calle San Antón\, 72\, 6º\, oficina 9\, Granada
CATEGORIES:Formación
ATTACH;FMTTYPE=image/png:https://granadavalley.es/wp-content/uploads/2024/05/podcast-podcast-podcast-podcast-podcast-podcast-podcast-podcast-4.png
ORGANIZER;CN="Granada Valley":MAILTO:hola@granadavalley.es
END:VEVENT
BEGIN:VEVENT
DTSTART;TZID=Europe/Madrid:20250828T203000
DTEND;TZID=Europe/Madrid:20250828T220000
DTSTAMP:20260423T144926
CREATED:20250826T143752Z
LAST-MODIFIED:20250907T170010Z
UID:4670-1756413000-1756418400@granadavalley.es
SUMMARY:Picoteo Networking
DESCRIPTION:¡Únete a Granada Valley para el próximo evento Picoteo Networking el 28 de agosto de 2025 a las 20:30! Este encuentro tendrá lugar en las instalaciones de nuestra socia Hipnocare. \n¿Qué es Picoteo Networking?\nPicoteo Networking es una oportunidad única para que socios e invitados se reúnan\, compartan ideas y establezcan contactos profesionales\, con el objetivo de hacer negocio DE VERDAD. Este evento está diseñado para fomentar la colaboración y el crecimiento entre la comunidad empresarial de Granada. \n¿Quién Puede Participar?\nEl evento está abierto tanto para socios como para no asociados. Si aún no eres miembro\, esta es tu oportunidad para participar y descubrir los beneficios de formar parte de nuestra red. Los no asociados pueden inscribirse y conseguir su invitación previa aceptación a través de este enlace https://granadavalley.es/invitaciones/  \nDetalles del Evento\n\nFecha: 28 de agosto de 2025\nHora: 20:30 AM\nLugar: Hipnocare\nDirección: Calle Baza\, parcela 3\, oficina M\, Albolote (Granada)\n\n¿Por Qué Asistir?\n\nNetworking: Conecta con una amplia red de profesionales y emprendedores de diversos sectores de la provincia de Granada.\nAmbiente Informal: Disfruta de un ambiente relajado mientras haces networking\, y disfrutas de un picoteo de cortesía.\nOportunidades de Colaboración: Encuentra posibles socios\, clientes o proveedores\, y establece sinergias con el tejido empresarial de la zona.\nInvitación para No Asociados: Prueba el valor de nuestras reuniones.\n\nCómo Inscribirse\nNo te pierdas esta oportunidad única de expandir tu red profesional y descubrir nuevas oportunidades. Para inscribirte y obtener tu invitación gratuita\, visita https://granadavalley.es/invitaciones/
URL:https://granadavalley.es/evento/picoteo-networking-hipnocare/
LOCATION:Hipnocare\, Calle Baza\, parcela 3\, oficina M\, Albolote\, Granada
CATEGORIES:Networking
ATTACH;FMTTYPE=image/png:https://granadavalley.es/wp-content/uploads/2024/05/podcast-podcast-podcast-podcast-podcast-podcast-podcast-podcast-1.png
ORGANIZER;CN="Granada Valley":MAILTO:hola@granadavalley.es
END:VEVENT
END:VCALENDAR