BEGIN:VCALENDAR
VERSION:2.0
PRODID:-//Granada Valley - ECPv6.15.20//NONSGML v1.0//EN
CALSCALE:GREGORIAN
METHOD:PUBLISH
X-WR-CALNAME:Granada Valley
X-ORIGINAL-URL:https://granadavalley.es
X-WR-CALDESC:Eventos para Granada Valley
REFRESH-INTERVAL;VALUE=DURATION:PT1H
X-Robots-Tag:noindex
X-PUBLISHED-TTL:PT1H
BEGIN:VTIMEZONE
TZID:Europe/Madrid
BEGIN:DAYLIGHT
TZOFFSETFROM:+0100
TZOFFSETTO:+0200
TZNAME:CEST
DTSTART:20250330T010000
END:DAYLIGHT
BEGIN:STANDARD
TZOFFSETFROM:+0200
TZOFFSETTO:+0100
TZNAME:CET
DTSTART:20251026T010000
END:STANDARD
BEGIN:DAYLIGHT
TZOFFSETFROM:+0100
TZOFFSETTO:+0200
TZNAME:CEST
DTSTART:20260329T010000
END:DAYLIGHT
BEGIN:STANDARD
TZOFFSETFROM:+0200
TZOFFSETTO:+0100
TZNAME:CET
DTSTART:20261025T010000
END:STANDARD
BEGIN:DAYLIGHT
TZOFFSETFROM:+0100
TZOFFSETTO:+0200
TZNAME:CEST
DTSTART:20270328T010000
END:DAYLIGHT
BEGIN:STANDARD
TZOFFSETFROM:+0200
TZOFFSETTO:+0100
TZNAME:CET
DTSTART:20271031T010000
END:STANDARD
END:VTIMEZONE
BEGIN:VEVENT
DTSTART;TZID=Europe/Madrid:20260217T193000
DTEND;TZID=Europe/Madrid:20260217T203000
DTSTAMP:20260420T151004
CREATED:20260204T114626Z
LAST-MODIFIED:20260204T114626Z
UID:5349-1771356600-1771360200@granadavalley.es
SUMMARY:Formación: El valor de la confianza en la era del dato
DESCRIPTION:La formación “El valor de la confianza en la era del dato”\, impartida por nuestro socio Alpha360\, está dirigida a empresas y profesionales que quieran aprender todo lo relacionado con la protección de datos. \nDurante la sesión aprenderás cómo proteger la información de tu empresa\, con casos prácticos y enfocados en tu sector. Una formación práctica y clara\, enfocada a resultados reales. \nIdeal para emprendedores y empresas con cualquier tipo de negocio. \n🕣 Hora: 20:30 h En las instalaciones del Club.
URL:https://granadavalley.es/evento/formacion-valor-confianza-dato/
LOCATION:granada valley\, Avenida del Conocimiento 16\, 3º Planta\, Ala A\, Edificio I+D\, Granada\, Spain
CATEGORIES:Formación
ATTACH;FMTTYPE=image/png:https://granadavalley.es/wp-content/uploads/2024/05/podcast-podcast-podcast-podcast-podcast-podcast-podcast-podcast-4.png
ORGANIZER;CN="Granada Valley":MAILTO:hola@granadavalley.es
END:VEVENT
BEGIN:VEVENT
DTSTART;TZID=Europe/Madrid:20260219T203000
DTEND;TZID=Europe/Madrid:20260219T220000
DTSTAMP:20260420T151004
CREATED:20260204T112825Z
LAST-MODIFIED:20260204T112825Z
UID:5346-1771533000-1771538400@granadavalley.es
SUMMARY:Aperitivo Networking
DESCRIPTION:El Aperitivo Networking del 19 de febrero se celebrará en Papelería Andalucía\, empresa socia de Granada Valley. Un evento pensado para conectar empresas en un entorno diferente y cercano\, favoreciendo conversaciones de valor y colaboraciones futuras. \nEste tipo de encuentros refuerzan la filosofía del club: networking real\, humano y basado en la confianza\, donde cada socio puede mostrar quién es y qué hace sin presiones comerciales. \n📍 Lugar: Papelería Andalucía \n🕣 Hora: 20:30 h \n¿Por Qué Asistir?\n\nNetworking: Conecta con una amplia red de profesionales y emprendedores de diversos sectores de la provincia de Granada.\nAmbiente Informal: Disfruta de un ambiente relajado mientras haces networking\, y disfrutas de un picoteo de cortesía.\nOportunidades de Colaboración: Encuentra posibles socios\, clientes o proveedores\, y establece sinergias con el tejido empresarial de la zona.\nInvitación para No Asociados: Prueba el valor de nuestras reuniones.\n\nCómo Inscribirse\nNo te pierdas esta oportunidad única de expandir tu red profesional y descubrir nuevas oportunidades. Para inscribirte y obtener tu invitación gratuita\, visita https://granadavalley.es/invitaciones/
URL:https://granadavalley.es/evento/aperitivo-networking-papeleria-andalucia/
LOCATION:Papelería Andalucía\, Ctra. de Murcia nº 68\, Huetor Santillán\, Granada
CATEGORIES:Networking
ATTACH;FMTTYPE=image/png:https://granadavalley.es/wp-content/uploads/2024/05/podcast-podcast-podcast-podcast-podcast-podcast-podcast-podcast-1.png
ORGANIZER;CN="Granada Valley":MAILTO:hola@granadavalley.es
END:VEVENT
BEGIN:VEVENT
DTSTART;TZID=Europe/Madrid:20260226T090000
DTEND;TZID=Europe/Madrid:20260226T140000
DTSTAMP:20260420T151004
CREATED:20260204T120525Z
LAST-MODIFIED:20260204T120527Z
UID:5351-1772096400-1772114400@granadavalley.es
SUMMARY:MYM Networking Monaita & Granada Valley
DESCRIPTION:Granada Valley\, colaboradora y patrocinadora del encuentro anual de networking que celebra Alumni Attendis Monaita & Mulhacén para fomentar la red entre profesionales y empresarios con la que cuentan los colegios. Además\, a las 13:00 ofreceremos una charla enformato píldora formativa en el evento\, a la que os animamos a participar. \nSi deseas asistir\, puedes inscribirte a través de este enlace https://www.mymnetworking.com/users/sign_up  debiendo señalar en el apartado biografía o trayectoria que vienes a través de Granada Valley. \nEl PRECIO DE INSCRIPCIÓN es 15€ por persona y se abonará el día del evento\, en la recogida de acreditaciones. Incluye día de evento\, obsequio\, desayuno y almuerzo.
URL:https://granadavalley.es/evento/mym-networking-monaita-granada-valley/
LOCATION:Colegio Mulhacén\, Ctra. Pinos Puente\, Granada
CATEGORIES:Eventos,Networking
ATTACH;FMTTYPE=image/jpeg:https://granadavalley.es/wp-content/uploads/2026/02/CABECERA-WEB-2026-scaled.jpg
END:VEVENT
BEGIN:VEVENT
DTSTART;TZID=Europe/Madrid:20260305T203000
DTEND;TZID=Europe/Madrid:20260305T220000
DTSTAMP:20260420T151004
CREATED:20260223T160851Z
LAST-MODIFIED:20260223T160851Z
UID:5387-1772742600-1772748000@granadavalley.es
SUMMARY:Picoteo Networking + Formación
DESCRIPTION:El Picoteo Networking del 5 de marzo se celebrará en la sede de Asociación JER\, socios de Granada Valley. Un evento pensado para conectar empresas en un entorno diferente y cercano\, favoreciendo conversaciones de valor y colaboraciones futuras. \nEste tipo de encuentros refuerzan la filosofía del club: networking real\, humano y basado en la confianza\, donde cada socio puede mostrar quién es y qué hace sin presiones comerciales. \n📍 Lugar: Asociación JER \n🕣 Hora: 20:30 h \n¿Por Qué Asistir?\n\nNetworking: Conecta con una amplia red de profesionales y emprendedores de diversos sectores de la provincia de Granada.\nAmbiente Informal: Disfruta de un ambiente relajado mientras haces networking\, y disfrutas de un picoteo de cortesía.\nOportunidades de Colaboración: Encuentra posibles socios\, clientes o proveedores\, y establece sinergias con el tejido empresarial de la zona.\nInvitación para No Asociados: Prueba el valor de nuestras reuniones.\n\nCómo Inscribirse\nNo te pierdas esta oportunidad única de expandir tu red profesional y descubrir nuevas oportunidades. Para inscribirte y obtener tu invitación gratuita\, visita https://granadavalley.es/invitaciones/
URL:https://granadavalley.es/evento/picoteo-networking-formacion/
LOCATION:Asociación JER\, Avenida Divina Pastora\, 9\, Granada\, Granada\, España
CATEGORIES:Networking
ATTACH;FMTTYPE=image/png:https://granadavalley.es/wp-content/uploads/2024/05/podcast-podcast-podcast-podcast-podcast-podcast-podcast-podcast-1.png
ORGANIZER;CN="Granada Valley":MAILTO:hola@granadavalley.es
END:VEVENT
BEGIN:VEVENT
DTSTART;TZID=Europe/Madrid:20260312T090000
DTEND;TZID=Europe/Madrid:20260312T110000
DTSTAMP:20260420T151004
CREATED:20260223T161240Z
LAST-MODIFIED:20260223T161240Z
UID:5389-1773306000-1773313200@granadavalley.es
SUMMARY:Desayuno Networking
DESCRIPTION:El Desayuno Networking de Granada Valley del 12 de marzo se celebrará en la oficina de nuestros socios Masada Inmobiliaria\, y está pensado para comenzar la jornada laboral generando conexiones de calidad entre empresas de Granada. \nEste formato de networking matinal permite compartir ideas\, proyectos y contactos en un ambiente cercano y profesional. Es ideal para quienes buscan hacer networking efectivo sin interferir en su jornada laboral\, creando relaciones basadas en la confianza y el conocimiento mutuo. \nUn encuentro perfecto para fortalecer vínculos\, descubrir nuevos colaboradores y formar parte activa de la comunidad Granada Valley. \n📍 Lugar: Masada Inmobiliaria \n🕘 Hora: 9:00 h \n¿Qué es Desayuno Networking? \nDesayuno Networking es una oportunidad única para que socios e invitados se reúnan\, compartan ideas y establezcan contactos profesionales\, con el objetivo de hacer negocio DE VERDAD. Este evento está diseñado para fomentar la colaboración y el crecimiento entre la comunidad empresarial de Granada. \n¿Quién Puede Participar?\nEl evento está abierto tanto para socios como para no asociados. Si aún no eres miembro\, esta es tu oportunidad para participar y descubrir los beneficios de formar parte de nuestra red. Los no asociados pueden inscribirse y conseguir su invitación previa aceptación a través de este enlace https://granadavalley.es/invitaciones/  \n¿Por Qué Asistir?\n\nNetworking: Conecta con una amplia red de profesionales y emprendedores de diversos sectores de la provincia de Granada.\nAmbiente Informal: Disfruta de un ambiente relajado mientras haces networking\, y disfrutas de un desayuno de cortesía.\nOportunidades de Colaboración: Encuentra posibles socios\, clientes o proveedores\, y establece sinergias con el tejido empresarial de la zona.\nInvitación para No Asociados: Prueba el valor de nuestras reuniones.\n\nCómo Inscribirse\nNo te pierdas esta oportunidad única de expandir tu red profesional y descubrir nuevas oportunidades. Para inscribirte y obtener tu invitación gratuita\, visita https://granadavalley.es/invitaciones/
URL:https://granadavalley.es/evento/desayuno-networking-masada-marzo/
LOCATION:RK Masada Inmobiliaria\, Calle Arabial\, 4\, Granada\, Granada\, España
CATEGORIES:Networking
ATTACH;FMTTYPE=image/png:https://granadavalley.es/wp-content/uploads/2024/05/podcast-podcast-podcast-podcast-podcast-podcast-podcast-podcast-1.png
ORGANIZER;CN="Granada Valley":MAILTO:hola@granadavalley.es
END:VEVENT
BEGIN:VEVENT
DTSTART;TZID=Europe/Madrid:20260319T203000
DTEND;TZID=Europe/Madrid:20260319T220000
DTSTAMP:20260420T151004
CREATED:20260223T161637Z
LAST-MODIFIED:20260223T161637Z
UID:5391-1773952200-1773957600@granadavalley.es
SUMMARY:Picoteo Networking
DESCRIPTION:El Picoteo Networking del 19 de marzo se celebrará en las instalaciones de nuestra socia Fisiotravell. Un evento pensado para conectar empresas en un entorno diferente y cercano\, favoreciendo conversaciones de valor y colaboraciones futuras. \nEste tipo de encuentros refuerzan la filosofía del club: networking real\, humano y basado en la confianza\, donde cada socio puede mostrar quién es y qué hace sin presiones comerciales. \n📍 Lugar: Fisiotravell \n🕣 Hora: 20:30 h \n¿Por Qué Asistir?\n\nNetworking: Conecta con una amplia red de profesionales y emprendedores de diversos sectores de la provincia de Granada.\nAmbiente Informal: Disfruta de un ambiente relajado mientras haces networking\, y disfrutas de un picoteo de cortesía.\nOportunidades de Colaboración: Encuentra posibles socios\, clientes o proveedores\, y establece sinergias con el tejido empresarial de la zona.\nInvitación para No Asociados: Prueba el valor de nuestras reuniones.\n\nCómo Inscribirse\nNo te pierdas esta oportunidad única de expandir tu red profesional y descubrir nuevas oportunidades. Para inscribirte y obtener tu invitación gratuita\, visita https://granadavalley.es/invitaciones/
URL:https://granadavalley.es/evento/picoteo-networking-fisiotravell/
LOCATION:Fisiotravel\, Calle Platero\, 2\, Granada\, Granada\, España
CATEGORIES:Networking
ATTACH;FMTTYPE=image/png:https://granadavalley.es/wp-content/uploads/2024/05/podcast-podcast-podcast-podcast-podcast-podcast-podcast-podcast-1.png
ORGANIZER;CN="Granada Valley":MAILTO:hola@granadavalley.es
END:VEVENT
BEGIN:VEVENT
DTSTART;TZID=Europe/Madrid:20260326T090000
DTEND;TZID=Europe/Madrid:20260326T110000
DTSTAMP:20260420T151004
CREATED:20260223T162113Z
LAST-MODIFIED:20260223T162113Z
UID:5393-1774515600-1774522800@granadavalley.es
SUMMARY:Desayuno Networking + Formación
DESCRIPTION:El Desayuno Networking de Granada Valley del 26 de marzo se celebrará en la sede del Club\, y está pensado para comenzar la jornada laboral generando conexiones de calidad entre empresas de Granada. \nEste formato de networking matinal permite compartir ideas\, proyectos y contactos en un ambiente cercano y profesional. Es ideal para quienes buscan hacer networking efectivo sin interferir en su jornada laboral\, creando relaciones basadas en la confianza y el conocimiento mutuo. \nUn encuentro perfecto para fortalecer vínculos\, descubrir nuevos colaboradores y formar parte activa de la comunidad Granada Valley. \n📍 Lugar: Instalaciones del Club \n🕘 Hora: 9:00 h \n¿Qué es Desayuno Networking? \nDesayuno Networking es una oportunidad única para que socios e invitados se reúnan\, compartan ideas y establezcan contactos profesionales\, con el objetivo de hacer negocio DE VERDAD. Este evento está diseñado para fomentar la colaboración y el crecimiento entre la comunidad empresarial de Granada. \n¿Quién Puede Participar?\nEl evento está abierto tanto para socios como para no asociados. Si aún no eres miembro\, esta es tu oportunidad para participar y descubrir los beneficios de formar parte de nuestra red. Los no asociados pueden inscribirse y conseguir su invitación previa aceptación a través de este enlace https://granadavalley.es/invitaciones/  \n¿Por Qué Asistir?\n\nNetworking: Conecta con una amplia red de profesionales y emprendedores de diversos sectores de la provincia de Granada.\nAmbiente Informal: Disfruta de un ambiente relajado mientras haces networking\, y disfrutas de un desayuno de cortesía.\nOportunidades de Colaboración: Encuentra posibles socios\, clientes o proveedores\, y establece sinergias con el tejido empresarial de la zona.\nInvitación para No Asociados: Prueba el valor de nuestras reuniones.\n\nCómo Inscribirse\nNo te pierdas esta oportunidad única de expandir tu red profesional y descubrir nuevas oportunidades. Para inscribirte y obtener tu invitación gratuita\, visita https://granadavalley.es/invitaciones/
URL:https://granadavalley.es/evento/desayuno-networking-sede-granada-valley-formacion/
LOCATION:granada valley\, Avenida del Conocimiento 16\, 3º Planta\, Ala A\, Edificio I+D\, Granada\, Spain
CATEGORIES:Networking
ATTACH;FMTTYPE=image/png:https://granadavalley.es/wp-content/uploads/2024/05/podcast-podcast-podcast-podcast-podcast-podcast-podcast-podcast-1.png
ORGANIZER;CN="Granada Valley":MAILTO:hola@granadavalley.es
END:VEVENT
END:VCALENDAR