BEGIN:VCALENDAR
VERSION:2.0
PRODID:-//Granada Valley - ECPv6.15.20//NONSGML v1.0//EN
CALSCALE:GREGORIAN
METHOD:PUBLISH
X-ORIGINAL-URL:https://granadavalley.es
X-WR-CALDESC:Eventos para Granada Valley
REFRESH-INTERVAL;VALUE=DURATION:PT1H
X-Robots-Tag:noindex
X-PUBLISHED-TTL:PT1H
BEGIN:VTIMEZONE
TZID:Europe/Madrid
BEGIN:DAYLIGHT
TZOFFSETFROM:+0100
TZOFFSETTO:+0200
TZNAME:CEST
DTSTART:20250330T010000
END:DAYLIGHT
BEGIN:STANDARD
TZOFFSETFROM:+0200
TZOFFSETTO:+0100
TZNAME:CET
DTSTART:20251026T010000
END:STANDARD
BEGIN:DAYLIGHT
TZOFFSETFROM:+0100
TZOFFSETTO:+0200
TZNAME:CEST
DTSTART:20260329T010000
END:DAYLIGHT
BEGIN:STANDARD
TZOFFSETFROM:+0200
TZOFFSETTO:+0100
TZNAME:CET
DTSTART:20261025T010000
END:STANDARD
BEGIN:DAYLIGHT
TZOFFSETFROM:+0100
TZOFFSETTO:+0200
TZNAME:CEST
DTSTART:20270328T010000
END:DAYLIGHT
BEGIN:STANDARD
TZOFFSETFROM:+0200
TZOFFSETTO:+0100
TZNAME:CET
DTSTART:20271031T010000
END:STANDARD
END:VTIMEZONE
BEGIN:VEVENT
DTSTART;TZID=Europe/Madrid:20260127T203000
DTEND;TZID=Europe/Madrid:20260127T213000
DTSTAMP:20260424T105251
CREATED:20260121T091334Z
LAST-MODIFIED:20260121T091801Z
UID:5324-1769545800-1769549400@granadavalley.es
SUMMARY:Formación: Cobrar por Bizum siendo autónomo
DESCRIPTION:La formación “Cobrar por Bizum siendo autónomo: qué cambia desde enero”\, impartida por Macarena Moles\, abogada y socia del club\, aborda uno de los temas que más dudas genera entre profesionales y autónomos. \nEn esta sesión se explicarán de forma clara las novedades legales y fiscales\, cómo afectan al uso de Bizum y qué debes tener en cuenta para cumplir con la normativa vigente. \nUna formación imprescindible para autónomos y empresas que buscan seguridad legal y tranquilidad en su día a día. \n🕣 Hora: 20:30 h
URL:https://granadavalley.es/evento/formacion-cobrar-por-bizum-autonomo/
CATEGORIES:Formación
ATTACH;FMTTYPE=image/png:https://granadavalley.es/wp-content/uploads/2024/05/podcast-podcast-podcast-podcast-podcast-podcast-podcast-podcast-4.png
ORGANIZER;CN="Granada Valley":MAILTO:hola@granadavalley.es
END:VEVENT
END:VCALENDAR