BEGIN:VCALENDAR
VERSION:2.0
PRODID:-//Granada Valley - ECPv6.15.20//NONSGML v1.0//EN
CALSCALE:GREGORIAN
METHOD:PUBLISH
X-WR-CALNAME:Granada Valley
X-ORIGINAL-URL:https://granadavalley.es
X-WR-CALDESC:Eventos para Granada Valley
REFRESH-INTERVAL;VALUE=DURATION:PT1H
X-Robots-Tag:noindex
X-PUBLISHED-TTL:PT1H
BEGIN:VTIMEZONE
TZID:Europe/Madrid
BEGIN:DAYLIGHT
TZOFFSETFROM:+0100
TZOFFSETTO:+0200
TZNAME:CEST
DTSTART:20250330T010000
END:DAYLIGHT
BEGIN:STANDARD
TZOFFSETFROM:+0200
TZOFFSETTO:+0100
TZNAME:CET
DTSTART:20251026T010000
END:STANDARD
BEGIN:DAYLIGHT
TZOFFSETFROM:+0100
TZOFFSETTO:+0200
TZNAME:CEST
DTSTART:20260329T010000
END:DAYLIGHT
BEGIN:STANDARD
TZOFFSETFROM:+0200
TZOFFSETTO:+0100
TZNAME:CET
DTSTART:20261025T010000
END:STANDARD
BEGIN:DAYLIGHT
TZOFFSETFROM:+0100
TZOFFSETTO:+0200
TZNAME:CEST
DTSTART:20270328T010000
END:DAYLIGHT
BEGIN:STANDARD
TZOFFSETFROM:+0200
TZOFFSETTO:+0100
TZNAME:CET
DTSTART:20271031T010000
END:STANDARD
END:VTIMEZONE
BEGIN:VEVENT
DTSTART;TZID=Europe/Madrid:20260120T203000
DTEND;TZID=Europe/Madrid:20260120T213000
DTSTAMP:20260420T133804
CREATED:20260121T085932Z
LAST-MODIFIED:20260121T090039Z
UID:5319-1768941000-1768944600@granadavalley.es
SUMMARY:Formación: Construye presencia digital en redes sociales con estrategia
DESCRIPTION:La formación “Construye presencia digital en redes sociales con estrategia”\, impartida por Andrea Villanueva de Comienza Creando\, está dirigida a empresas y profesionales que quieren mejorar su visibilidad online de forma coherente y efectiva. \nDurante la sesión aprenderás a crear una estrategia digital alineada con tus objetivos de negocio\, evitando la improvisación y el desgaste que supone publicar sin rumbo. Una formación práctica y clara\, enfocada a resultados reales en redes sociales. \nIdeal para emprendedores y empresas que quieren profesionalizar su presencia digital y destacar en un entorno cada vez más competitivo. \n🕣 Hora: 20:30 h En Startidea
URL:https://granadavalley.es/evento/formacion-construye-presencia-digital/
LOCATION:Startidea\, Calle Conde Cifuentes\, 33\, Granada\, España
CATEGORIES:Formación
ATTACH;FMTTYPE=image/png:https://granadavalley.es/wp-content/uploads/2024/05/podcast-podcast-podcast-podcast-podcast-podcast-podcast-podcast-4.png
ORGANIZER;CN="Granada Valley":MAILTO:hola@granadavalley.es
END:VEVENT
END:VCALENDAR