BEGIN:VCALENDAR
VERSION:2.0
PRODID:-//Granada Valley - ECPv6.15.20//NONSGML v1.0//EN
CALSCALE:GREGORIAN
METHOD:PUBLISH
X-WR-CALNAME:Granada Valley
X-ORIGINAL-URL:https://granadavalley.es
X-WR-CALDESC:Eventos para Granada Valley
REFRESH-INTERVAL;VALUE=DURATION:PT1H
X-Robots-Tag:noindex
X-PUBLISHED-TTL:PT1H
BEGIN:VTIMEZONE
TZID:Europe/Madrid
BEGIN:DAYLIGHT
TZOFFSETFROM:+0100
TZOFFSETTO:+0200
TZNAME:CEST
DTSTART:20240331T010000
END:DAYLIGHT
BEGIN:STANDARD
TZOFFSETFROM:+0200
TZOFFSETTO:+0100
TZNAME:CET
DTSTART:20241027T010000
END:STANDARD
BEGIN:DAYLIGHT
TZOFFSETFROM:+0100
TZOFFSETTO:+0200
TZNAME:CEST
DTSTART:20250330T010000
END:DAYLIGHT
BEGIN:STANDARD
TZOFFSETFROM:+0200
TZOFFSETTO:+0100
TZNAME:CET
DTSTART:20251026T010000
END:STANDARD
BEGIN:DAYLIGHT
TZOFFSETFROM:+0100
TZOFFSETTO:+0200
TZNAME:CEST
DTSTART:20260329T010000
END:DAYLIGHT
BEGIN:STANDARD
TZOFFSETFROM:+0200
TZOFFSETTO:+0100
TZNAME:CET
DTSTART:20261025T010000
END:STANDARD
END:VTIMEZONE
BEGIN:VEVENT
DTSTART;TZID=Europe/Madrid:20251029T180000
DTEND;TZID=Europe/Madrid:20251029T200000
DTSTAMP:20260420T151400
CREATED:20251002T145511Z
LAST-MODIFIED:20251002T145512Z
UID:5058-1761760800-1761768000@granadavalley.es
SUMMARY:Formación en colaboración con Speakcomm
DESCRIPTION:Granada Valley colabora en la formación que impartirá nuestra socia Macarena Quijada de Speakcomm: “Del Ya Sé IA al Ya Transformé mi Empresa”. \nDurante 4 horas presenciales e interactivas\, Macarena presentará su innovador método MIRA\, una radiografía empresarial con inteligencia artificial para identificar cuellos de botella\, ineficiencias y oportunidades reales de mejora. Además\, contará con expertos invitados que abordarán cómo gestionar el cambio organizacional\, superar resistencias y trabajar el impacto emocional de la transformación tecnológica en equipos. \nEste taller está diseñado para emprendedores\, CEOs y profesionales que ya conocen la IA a nivel técnico pero desean convertir ese conocimiento en transformación real dentro de sus empresas. No se trata solo de saber\, sino de implementar con estrategia y resultados concretos. \n🛠 Plazas limitadas (solo 40 asistentes) 🎫 Inscripción: 10 € (reserva tu plaza) \nMás información en https://speakcomm.ai/taller/ \nAnimamos a todos nuestros socios a acompañar a Macarena a esta formación que de seguro será muy útil.
URL:https://granadavalley.es/evento/formacion-en-colaboracion-con-speakcomm/
CATEGORIES:Formación
ATTACH;FMTTYPE=image/png:https://granadavalley.es/wp-content/uploads/2024/05/podcast-podcast-podcast-podcast-podcast-podcast-podcast-podcast-4.png
ORGANIZER;CN="Granada Valley":MAILTO:hola@granadavalley.es
END:VEVENT
END:VCALENDAR