BEGIN:VCALENDAR
VERSION:2.0
PRODID:-//Granada Valley - ECPv6.15.20//NONSGML v1.0//EN
CALSCALE:GREGORIAN
METHOD:PUBLISH
X-ORIGINAL-URL:https://granadavalley.es
X-WR-CALDESC:Eventos para Granada Valley
REFRESH-INTERVAL;VALUE=DURATION:PT1H
X-Robots-Tag:noindex
X-PUBLISHED-TTL:PT1H
BEGIN:VTIMEZONE
TZID:Europe/Madrid
BEGIN:DAYLIGHT
TZOFFSETFROM:+0100
TZOFFSETTO:+0200
TZNAME:CEST
DTSTART:20240331T010000
END:DAYLIGHT
BEGIN:STANDARD
TZOFFSETFROM:+0200
TZOFFSETTO:+0100
TZNAME:CET
DTSTART:20241027T010000
END:STANDARD
BEGIN:DAYLIGHT
TZOFFSETFROM:+0100
TZOFFSETTO:+0200
TZNAME:CEST
DTSTART:20250330T010000
END:DAYLIGHT
BEGIN:STANDARD
TZOFFSETFROM:+0200
TZOFFSETTO:+0100
TZNAME:CET
DTSTART:20251026T010000
END:STANDARD
BEGIN:DAYLIGHT
TZOFFSETFROM:+0100
TZOFFSETTO:+0200
TZNAME:CEST
DTSTART:20260329T010000
END:DAYLIGHT
BEGIN:STANDARD
TZOFFSETFROM:+0200
TZOFFSETTO:+0100
TZNAME:CET
DTSTART:20261025T010000
END:STANDARD
END:VTIMEZONE
BEGIN:VEVENT
DTSTART;TZID=Europe/Madrid:20251017T143000
DTEND;TZID=Europe/Madrid:20251017T163000
DTSTAMP:20260424T124103
CREATED:20251001T161807Z
LAST-MODIFIED:20251001T161807Z
UID:5040-1760711400-1760718600@granadavalley.es
SUMMARY:Paella exclusiva para socios
DESCRIPTION:El próximo jueves 17 de octubre a las 14:30 h\, los socios de Granada Valley tenemos una cita muy especial en Mariana Mon Amour: una paella exclusiva\, organizada por nuestro socio Tus Territorios y en la que contaremos también con la participación de nuestros compañeros de Neting. \nSerá una ocasión perfecta para disfrutar de buena gastronomía\, compartir tiempo juntos entre empresas y seguir fortaleciendo los lazos de nuestra comunidad empresarial en un ambiente distendido y cercano. \n📍 Lugar: Mariana Mon Amour🗓 Fecha: jueves 17 de octubre⏰ Hora: 14:30 h👥 Evento exclusivo para socios de Granada Valley \nUna cita diferente\, donde el networking se servirá alrededor de la mesa. ¡No faltes!
URL:https://granadavalley.es/evento/paella-exclusiva-para-socios/
LOCATION:Mariana Mon Amour\, Plaza Mariana Pineda\, Granada
CATEGORIES:Eventos
END:VEVENT
END:VCALENDAR