BEGIN:VCALENDAR
VERSION:2.0
PRODID:-//Granada Valley - ECPv6.15.20//NONSGML v1.0//EN
CALSCALE:GREGORIAN
METHOD:PUBLISH
X-ORIGINAL-URL:https://granadavalley.es
X-WR-CALDESC:Eventos para Granada Valley
REFRESH-INTERVAL;VALUE=DURATION:PT1H
X-Robots-Tag:noindex
X-PUBLISHED-TTL:PT1H
BEGIN:VTIMEZONE
TZID:Europe/Madrid
BEGIN:DAYLIGHT
TZOFFSETFROM:+0100
TZOFFSETTO:+0200
TZNAME:CEST
DTSTART:20240331T010000
END:DAYLIGHT
BEGIN:STANDARD
TZOFFSETFROM:+0200
TZOFFSETTO:+0100
TZNAME:CET
DTSTART:20241027T010000
END:STANDARD
BEGIN:DAYLIGHT
TZOFFSETFROM:+0100
TZOFFSETTO:+0200
TZNAME:CEST
DTSTART:20250330T010000
END:DAYLIGHT
BEGIN:STANDARD
TZOFFSETFROM:+0200
TZOFFSETTO:+0100
TZNAME:CET
DTSTART:20251026T010000
END:STANDARD
BEGIN:DAYLIGHT
TZOFFSETFROM:+0100
TZOFFSETTO:+0200
TZNAME:CEST
DTSTART:20260329T010000
END:DAYLIGHT
BEGIN:STANDARD
TZOFFSETFROM:+0200
TZOFFSETTO:+0100
TZNAME:CET
DTSTART:20261025T010000
END:STANDARD
END:VTIMEZONE
BEGIN:VEVENT
DTSTART;TZID=Europe/Madrid:20251004T090000
DTEND;TZID=Europe/Madrid:20251004T120000
DTSTAMP:20260424T124048
CREATED:20251001T160254Z
LAST-MODIFIED:20251001T160254Z
UID:5036-1759568400-1759579200@granadavalley.es
SUMMARY:Ruta Los Cahorros
DESCRIPTION:El próximo sábado 4 de octubre\, te invitamos a una experiencia diferente en Granada Valley: una ruta de senderismo por Los Cahorros\, guiada por nuestro socio Luis Miguel\, de Bowee. \nLa actividad comenzará a las 9:00 h\, con punto de encuentro en el parking de Monachil. Tras la caminata\, disfrutaremos juntos de un desayuno en una finca\, un momento perfecto para convivir y hacer networking en plena naturaleza. \nAdemás\, los socios que asistan pueden venir con acompañantes. \n🗓 Fecha: sábado 4 de octubre⏰ Hora: 9:00 h📍 Lugar de encuentro: Parking de Monachil \nUna actividad saludable\, que nos ayudará a desconectar del trabajo\, a reconectar con la naturalez y en buena compañía. ¡No te la pierdas!
URL:https://granadavalley.es/evento/ruta-los-cahorros/
CATEGORIES:Eventos
END:VEVENT
END:VCALENDAR