BEGIN:VCALENDAR
VERSION:2.0
PRODID:-//Granada Valley - ECPv6.15.20//NONSGML v1.0//EN
CALSCALE:GREGORIAN
METHOD:PUBLISH
X-ORIGINAL-URL:https://granadavalley.es
X-WR-CALDESC:Eventos para Granada Valley
REFRESH-INTERVAL;VALUE=DURATION:PT1H
X-Robots-Tag:noindex
X-PUBLISHED-TTL:PT1H
BEGIN:VTIMEZONE
TZID:Europe/Madrid
BEGIN:DAYLIGHT
TZOFFSETFROM:+0100
TZOFFSETTO:+0200
TZNAME:CEST
DTSTART:20240331T010000
END:DAYLIGHT
BEGIN:STANDARD
TZOFFSETFROM:+0200
TZOFFSETTO:+0100
TZNAME:CET
DTSTART:20241027T010000
END:STANDARD
BEGIN:DAYLIGHT
TZOFFSETFROM:+0100
TZOFFSETTO:+0200
TZNAME:CEST
DTSTART:20250330T010000
END:DAYLIGHT
BEGIN:STANDARD
TZOFFSETFROM:+0200
TZOFFSETTO:+0100
TZNAME:CET
DTSTART:20251026T010000
END:STANDARD
BEGIN:DAYLIGHT
TZOFFSETFROM:+0100
TZOFFSETTO:+0200
TZNAME:CEST
DTSTART:20260329T010000
END:DAYLIGHT
BEGIN:STANDARD
TZOFFSETFROM:+0200
TZOFFSETTO:+0100
TZNAME:CET
DTSTART:20261025T010000
END:STANDARD
END:VTIMEZONE
BEGIN:VEVENT
DTSTART;TZID=Europe/Madrid:20250923T090000
DTEND;TZID=Europe/Madrid:20250923T103000
DTSTAMP:20260424T142447
CREATED:20250907T182244Z
LAST-MODIFIED:20250922T122826Z
UID:4853-1758618000-1758623400@granadavalley.es
SUMMARY:Taller Ansiedad y mente: consejos para sobrevivir a la vuelta de las vacaciones
DESCRIPTION:El próximo 23 de septiembre\, en Granada Valley\, contaremos con una nueva sesión de formación impartida por nuestra socia Pepa Rodríguez\, fundadora de Hipnocare. \nTras el descanso estival\, muchas personas experimentan un aumento de la ansiedad\, la falta de concentración o la dificultad para retomar la rutina. En esta formación práctica\, Pepa compartirá herramientas y consejos para gestionar la mente\, reducir el estrés y afrontar la vuelta de las vacaciones con mayor equilibrio y motivación. \nUn encuentro pensado para mejorar el bienestar personal y profesional de nuestros socios. \n📍 Fecha: Martes\, 23 de septiembre \n🕗 Hora: 09:00h \n📍 Lugar: C/Baza\, Parcela 3\, oficina M\, Albolote \n¡No te lo pierdas! \nGranada Valley no se detiene. ¡Seguimos!
URL:https://granadavalley.es/evento/taller-ansiedad-y-mente-consejos-para-sobrevivir-a-la-vuelta-de-las-vacaciones/
LOCATION:Hipnocare\, Calle Baza\, parcela 3\, oficina M\, Albolote\, Granada
CATEGORIES:Formación
ATTACH;FMTTYPE=image/png:https://granadavalley.es/wp-content/uploads/2024/05/podcast-podcast-podcast-podcast-podcast-podcast-podcast-podcast-4.png
ORGANIZER;CN="Granada Valley":MAILTO:hola@granadavalley.es
END:VEVENT
END:VCALENDAR