BEGIN:VCALENDAR
VERSION:2.0
PRODID:-//Granada Valley - ECPv6.15.20//NONSGML v1.0//EN
CALSCALE:GREGORIAN
METHOD:PUBLISH
X-WR-CALNAME:Granada Valley
X-ORIGINAL-URL:https://granadavalley.es
X-WR-CALDESC:Eventos para Granada Valley
REFRESH-INTERVAL;VALUE=DURATION:PT1H
X-Robots-Tag:noindex
X-PUBLISHED-TTL:PT1H
BEGIN:VTIMEZONE
TZID:Europe/Madrid
BEGIN:DAYLIGHT
TZOFFSETFROM:+0100
TZOFFSETTO:+0200
TZNAME:CEST
DTSTART:20240331T010000
END:DAYLIGHT
BEGIN:STANDARD
TZOFFSETFROM:+0200
TZOFFSETTO:+0100
TZNAME:CET
DTSTART:20241027T010000
END:STANDARD
BEGIN:DAYLIGHT
TZOFFSETFROM:+0100
TZOFFSETTO:+0200
TZNAME:CEST
DTSTART:20250330T010000
END:DAYLIGHT
BEGIN:STANDARD
TZOFFSETFROM:+0200
TZOFFSETTO:+0100
TZNAME:CET
DTSTART:20251026T010000
END:STANDARD
BEGIN:DAYLIGHT
TZOFFSETFROM:+0100
TZOFFSETTO:+0200
TZNAME:CEST
DTSTART:20260329T010000
END:DAYLIGHT
BEGIN:STANDARD
TZOFFSETFROM:+0200
TZOFFSETTO:+0100
TZNAME:CET
DTSTART:20261025T010000
END:STANDARD
END:VTIMEZONE
BEGIN:VEVENT
DTSTART;TZID=Europe/Madrid:20250917T200000
DTEND;TZID=Europe/Madrid:20250917T210000
DTSTAMP:20260424T142354
CREATED:20250907T172825Z
LAST-MODIFIED:20250917T104021Z
UID:4848-1758139200-1758142800@granadavalley.es
SUMMARY:Tertulia: Granada sin filtros.
DESCRIPTION:¡Vuelve la segunda tertulia de Granada Sin Filtrosby Granada Valley! En esta ocasión contaremos con invitados de lujo para hablar SIN FILTROS sobre la gastronomía granadina. Un debate real con preguntas que no se hacen el resto. Para ello\, escuchamos las voces del tejido empresarial local\, nuestros socios: Javier Feixas\, chef y dueño de La Ruta del Azafrán; Alfonso Campos “El Gocho Gourmet”\, el influencer gastronómico de moda; José Antonio de Taberna El Secreto\, que ha conseguido recientemente el sello de la Asociación Española de Gluten; y Raúl López\, conocido empresario de Grupo Ganivet y Tus Territorios.\n\n\n\nGranada Sin Filtros”\, un evento exclusivo de Granada Valley que reúne en una misma mesa a emprendedores y empresarios para debatir sin filtros sobre temas relevantes del ecosistema empresarial de Granada. \n¿Cuándo y dónde? \n📅 Fecha: 17 de septiembre \n🕘 Hora: 20:00 \n📍 Lugar: Beso\, Atrevimiento y Verdad \n¿Por qué asistir? \n– Escucha voces reales del tejido empresarial local.\n– Participa en un espacio de diálogo\, inspiración y networking.\n– Conecta con la diversidad generacional dentro de Granada Valley. \nEste evento es gratuito y exclusivo para socios de Granada Valley\, y forma parte de nuestro programa de actividades para fomentar el intercambio de ideas\, el aprendizaje colaborativo y el fortalecimiento de nuestra comunidad empresarial. \nUn diálogo real\, sin filtros. ¡No te lo pierdas!
URL:https://granadavalley.es/evento/tertulia-granada-sin-filtros/
LOCATION:Beso\, Atrevimiento y Verdad\, Av. Federico García Lorca\, 13\, Granada\, Spain
CATEGORIES:Eventos
ORGANIZER;CN="Granada Valley":MAILTO:hola@granadavalley.es
END:VEVENT
END:VCALENDAR